BEGIN:VCALENDAR
PRODID:-//Hochzeit Sarah & Manuel//sarahymanuel.de//DE
VERSION:2.0
CALSCALE:GREGORIAN
METHOD:PUBLISH
BEGIN:VTIMEZONE
TZID:Europe/Berlin
X-LIC-LOCATION:Europe/Berlin
BEGIN:DAYLIGHT
TZOFFSETFROM:+0100
TZOFFSETTO:+0200
TZNAME:CEST
DTSTART:19700329T020000
RRULE:FREQ=YEARLY;BYMONTH=3;BYDAY=-1SU;BYHOUR=2;BYMINUTE=0;BYSECOND=0
END:DAYLIGHT
BEGIN:STANDARD
TZOFFSETFROM:+0200
TZOFFSETTO:+0100
TZNAME:CET
DTSTART:19701025T030000
RRULE:FREQ=YEARLY;BYMONTH=10;BYDAY=-1SU;BYHOUR=3;BYMINUTE=0;BYSECOND=0
END:STANDARD
END:VTIMEZONE
BEGIN:VEVENT
UID:wedding-7e33d80302a4b5b6@sarahymanuel.de
DTSTAMP:20260420T213245Z
DTSTART;TZID=Europe/Berlin:20260418T150000
DTEND;TZID=Europe/Berlin:20260419T030000
SUMMARY:Freie Trauung – Sarah & Manuel
LOCATION:Heuchelberger Warte
DESCRIPTION:Deutsch:\nFreie Trauung von Sarah & Manuel.\n\nSpanisch:\nCeremonia libre de Sarah y Manuel.
URL;VALUE=URI:https://sarahymanuel.de/
END:VEVENT
END:VCALENDAR
